BEGIN:VCALENDAR
VERSION:2.0
PRODID:-//BC Aboriginal Land Managers Association - ECPv6.15.17.1//NONSGML v1.0//EN
CALSCALE:GREGORIAN
METHOD:PUBLISH
X-ORIGINAL-URL:https://bcalma.ca
X-WR-CALDESC:Events for BC Aboriginal Land Managers Association
REFRESH-INTERVAL;VALUE=DURATION:PT1H
X-Robots-Tag:noindex
X-PUBLISHED-TTL:PT1H
BEGIN:VTIMEZONE
TZID:UTC
BEGIN:STANDARD
TZOFFSETFROM:+0000
TZOFFSETTO:+0000
TZNAME:UTC
DTSTART:20240101T000000
END:STANDARD
END:VTIMEZONE
BEGIN:VEVENT
DTSTART;TZID=UTC:20251113T100000
DTEND;TZID=UTC:20251113T130000
DTSTAMP:20260421T081214
CREATED:20251020T231854Z
LAST-MODIFIED:20251125T215300Z
UID:1028-1763028000-1763038800@bcalma.ca
SUMMARY:NALMA Training - Incorporating GIS into Lands Management (Virtual)
DESCRIPTION:Land management professionals face major hurdles when adopting Geographic Information Systems (GIS)\, including complex software requiring specialized training\, limited access to quality data\, high costs\, concerns over data security. Successful integration also demands careful planning and work for alignment. The presentation suggests strategies like phased implantation and cultivating internal advocates to help organize navigate these challenges. \nDates: November 13\, 2025 \nLocation: Virtual\, 1PM-3PM (EST) – 10AM-1pm (PST) \nLanguage Delivery: English \nFor more information\, please contact Crystal Bourke at: cbourke@nalma.ca \nRegister here: https://nalma.ca/events/event/incorporating-gis-into-lands-management-virtual/
URL:https://bcalma.ca/events/incorporating-gis-into-lands-management-virtual/
CATEGORIES:NALMA
END:VEVENT
END:VCALENDAR