BEGIN:VCALENDAR
VERSION:2.0
PRODID:-//BC Aboriginal Land Managers Association - ECPv6.15.17.1//NONSGML v1.0//EN
CALSCALE:GREGORIAN
METHOD:PUBLISH
X-ORIGINAL-URL:https://bcalma.ca
X-WR-CALDESC:Events for BC Aboriginal Land Managers Association
REFRESH-INTERVAL;VALUE=DURATION:PT1H
X-Robots-Tag:noindex
X-PUBLISHED-TTL:PT1H
BEGIN:VTIMEZONE
TZID:UTC
BEGIN:STANDARD
TZOFFSETFROM:+0000
TZOFFSETTO:+0000
TZNAME:UTC
DTSTART:20240101T000000
END:STANDARD
END:VTIMEZONE
BEGIN:VEVENT
DTSTART;TZID=UTC:20250904T170000
DTEND;TZID=UTC:20250904T190000
DTSTAMP:20260423T092447
CREATED:20250903T220539Z
LAST-MODIFIED:20250903T220539Z
UID:952-1757005200-1757012400@bcalma.ca
SUMMARY:NALMA Training - Understanding Land Surveys (Virtual)
DESCRIPTION:Understanding Land Surveys (Virtual)\nThis virtual training will provide an understanding of surveys on Indian Reserves and how land managers can use the accompanying products\, records\, and systems. The participant will achieve the basic concepts of location boundaries\, survey posts\, making sketches\, and surveying terminology. \nDates: September 4\, 2025\nLocation: Virtual\, 1PM-3PM EST\nLanguage Delivery: English \nFor more information\, please contact Crystal Bourke: cbourke@nalma.ca \nRegister here: https://nalma.ca/events/event/understanding-land-surveys-virtual/ \n 
URL:https://bcalma.ca/events/nalma-training-understanding-land-surveys-virtual/
LOCATION:BC
END:VEVENT
BEGIN:VEVENT
DTSTART;VALUE=DATE:20250909
DTEND;VALUE=DATE:20250912
DTSTAMP:20260423T092447
CREATED:20250903T221530Z
LAST-MODIFIED:20250903T221530Z
UID:960-1757376000-1757635199@bcalma.ca
SUMMARY:NALMA Training - Land Appraisals
DESCRIPTION:Land Appraisals\nThis training was developed for First Nation Land Management Professionals\, including land managers\, coordinators\, officers\, and other individuals involved or interested in the management and administration of First Nation reserve lands and other land interests. \nThis guide was designed to provide a user-friendly introduction to the topic of real property appraisals and their application in First Nation activities occurring on and off reserve lands. \nDates: September 9-11\, 2025\nLocation: Ottawa\, ON\nLanguage Delivery: English \nFor more information please contact Juliana Thompson at: jthompson@nalma.ca \nRegister here: https://nalma.ca/events/event/land-appraisals/ \n  \n 
URL:https://bcalma.ca/events/nalma-training-land-appraisals/
LOCATION:BC
END:VEVENT
BEGIN:VEVENT
DTSTART;TZID=UTC:20250911T170000
DTEND;TZID=UTC:20250911T190000
DTSTAMP:20260423T092447
CREATED:20250903T220300Z
LAST-MODIFIED:20250903T220300Z
UID:949-1757610000-1757617200@bcalma.ca
SUMMARY:NALMA Training - Introduction to Land Use Planning (Virtual)
DESCRIPTION:Introduction to Land Use Planning (Virtual)\nThis virtual training is a condensed version of the content in the Land Use Planning Toolkit developed by NALMA as a practical aid for First Nations’ use in developing a land use plan for their community. Culture\, tradition\, type of land regime\, experience\, available resources\, and the wishes of the community are all factors that must be considered to help determine the type and extent of the Land Use Plan. \nDates: September 11\, 2025\nLocation: Virtual\, 1PM-3PM EST\n                                                                           Language Delivery: English \nFor more information\, please contact Krista Knott: kknott@nalma.ca \nRegister here: https://nalma.ca/events/event/introduction-to-land-use-planning-virtual/ \n 
URL:https://bcalma.ca/events/nalma-training-introduction-to-land-use-planning-virtual/
LOCATION:BC
END:VEVENT
BEGIN:VEVENT
DTSTART;VALUE=DATE:20250916
DTEND;VALUE=DATE:20250919
DTSTAMP:20260423T092447
CREATED:20250903T221148Z
LAST-MODIFIED:20250903T221245Z
UID:956-1757980800-1758239999@bcalma.ca
SUMMARY:NALMA Training - Additions to Reserves/Reserve Creation
DESCRIPTION:Additions to Reserves/Reserve Creation\nThe Additions to Reserve/Reserve Creation (ATR/RC) training will assist First Nations that are expanding their reserve land base\, providing a detailed overview of acquiring land and developing an ATR/RC proposal. This training will provide participants with the basic concepts of ATRs\, considerations before undertaking an ATR/RC\, and lead you through the four phases of the ATR process. \nDates: September 16-18\, 2025\nLocation: Calgary\, AB\nLanguage Delivery: English \nFor more information\, please contact Juliana Thompson at: jthompson@nalma.ca \nRegister here: https://nalma.ca/events/event/additions-to-reserves-reserve-creation-calgary-ab/
URL:https://bcalma.ca/events/nalma-training-additions-to-reserves-reserve-creation/
LOCATION:BC
END:VEVENT
BEGIN:VEVENT
DTSTART;VALUE=DATE:20250923
DTEND;VALUE=DATE:20250926
DTSTAMP:20260423T092447
CREATED:20250903T220903Z
LAST-MODIFIED:20250903T220903Z
UID:954-1758585600-1758844799@bcalma.ca
SUMMARY:NALMA Training - Best Practices in Environment Management
DESCRIPTION:Best Practices in Environment Management\nThis training will provide an overview of environmental management strategies and solutions that can be applied to the day-to-day management of Reserve Lands. The learner will gain a basic understanding of the tools and resources available to protect land\, water\, wildlife and the environment as well as reduce liability for Chief & Council and the Land and/or Environment Manager. \nDates: September 23-25\, 2025\nLocation: Ottawa\, ON\nLanguage Delivery: English \nFor more information please contact Juliana Thompson at: jthompson@nalma.ca \nRegister here: https://nalma.ca/events/event/best-practices-in-environment-management/ \n 
URL:https://bcalma.ca/events/nalma-training-best-practices-in-environment-management/
LOCATION:BC
END:VEVENT
END:VCALENDAR