BEGIN:VCALENDAR
VERSION:2.0
PRODID:-//BC Aboriginal Land Managers Association - ECPv6.15.17.1//NONSGML v1.0//EN
CALSCALE:GREGORIAN
METHOD:PUBLISH
X-WR-CALNAME:BC Aboriginal Land Managers Association
X-ORIGINAL-URL:https://bcalma.ca
X-WR-CALDESC:Events for BC Aboriginal Land Managers Association
REFRESH-INTERVAL;VALUE=DURATION:PT1H
X-Robots-Tag:noindex
X-PUBLISHED-TTL:PT1H
BEGIN:VTIMEZONE
TZID:UTC
BEGIN:STANDARD
TZOFFSETFROM:+0000
TZOFFSETTO:+0000
TZNAME:UTC
DTSTART:20240101T000000
END:STANDARD
END:VTIMEZONE
BEGIN:VEVENT
DTSTART;VALUE=DATE:20250603
DTEND;VALUE=DATE:20250606
DTSTAMP:20260423T130709
CREATED:20250410T224010Z
LAST-MODIFIED:20250903T212828Z
UID:912-1748908800-1749167999@bcalma.ca
SUMMARY:Introduction to Land Use Planning Toolkit
DESCRIPTION:The Land Use Planning Toolkit developed by NALMA is a practical aid for First Nations’ use in developing a land use plan for their community. Culture\, tradition\, type of land regime\, experience\, available resources\, and the wishes of the community are all factors that must be considered to help determine the type and extent of the Land Use Plan. \nDates: June 3-5\, 2025 \nLocation: Halifax NS \nLanguage Delivery: English \nSponsorship: Maximum $3\,000 per First Nation. As space is limited\, only one representative per First Nation will be accepted. Registrations will be accepted on a first-come\, first-served basis. \nFor more information\, please contact Krista Knott at: kknott@nalma.ca \nRegister here: https://nalma.ca/events/event/introduction-to-land-use-planning/
URL:https://bcalma.ca/events/introduction-to-land-use-planning-toolkit/
LOCATION:BC
END:VEVENT
BEGIN:VEVENT
DTSTART;VALUE=DATE:20250603
DTEND;VALUE=DATE:20250606
DTSTAMP:20260423T130709
CREATED:20250410T224051Z
LAST-MODIFIED:20250903T212822Z
UID:914-1748908800-1749167999@bcalma.ca
SUMMARY:Additions to Reserves/Reserve Creation Training
DESCRIPTION:The Additions to Reserve/Reserve Creation (ATR/RC) training will assist First Nations that are expanding their reserve land base\, providing a detailed overview of acquiring land and developing an ATR/RC proposal. This training will provide participants with the basic concepts of ATRs\, considerations before undertaking an ATR/RC\, and lead you through the four phases of the ATR process. \nDates: June 3-5\, 2025 \nLocation: Vancouver BC \nLanguage Delivery: English \nSponsorship: Maximum $3\,000 per First Nation. As space is limited\, only one representative per First Nation will be accepted. Registrations will be accepted on a first-come\, first-served basis. \nFor more information please contact Juliana Thompson at jthompson@nalma.ca \nRegister here: https://nalma.ca/events/event/additions-to-reserves-reserve-creation/
URL:https://bcalma.ca/events/additions-to-reserves-reserve-creation-training/
LOCATION:BC
END:VEVENT
END:VCALENDAR