BEGIN:VCALENDAR
VERSION:2.0
PRODID:-//BC Aboriginal Land Managers Association - ECPv6.15.17.1//NONSGML v1.0//EN
CALSCALE:GREGORIAN
METHOD:PUBLISH
X-WR-CALNAME:BC Aboriginal Land Managers Association
X-ORIGINAL-URL:https://bcalma.ca
X-WR-CALDESC:Events for BC Aboriginal Land Managers Association
REFRESH-INTERVAL;VALUE=DURATION:PT1H
X-Robots-Tag:noindex
X-PUBLISHED-TTL:PT1H
BEGIN:VTIMEZONE
TZID:UTC
BEGIN:STANDARD
TZOFFSETFROM:+0000
TZOFFSETTO:+0000
TZNAME:UTC
DTSTART:20240101T000000
END:STANDARD
END:VTIMEZONE
BEGIN:VEVENT
DTSTART;VALUE=DATE:20250410
DTEND;VALUE=DATE:20250412
DTSTAMP:20260423T154120
CREATED:20250328T160054Z
LAST-MODIFIED:20250903T212834Z
UID:900-1744243200-1744415999@bcalma.ca
SUMMARY:Wills & Estates Workshop
DESCRIPTION:BC Aboriginal Land Managers Association (BCALM) is excited to announce that we will be holding a two-day Wills and Estates Workshop with Woodward and Company LLP at the River Rock Casino Resort\, Richmond\, BC on April 10-11\, 2025. Travel day and check in day will be April 9\, 2025 and Travel home day will be April 12\, 2025. \nWills & Estates Workshop Description \nPlease join us for an informative and participatory workshop to teach land managers the necessities of wills and estate management to assist members. This workshop will cover topics such as: what makes a valid will under the Indian Act and the BC Wills Estates and Succession Act\, how different land management regimes impact estate planning\, what members need to know when writing a will\, what happens when a member dies without a will\, common issues in estate management for First Nations’ land managers\, and the estate management tools to consider beyond a will. The workshop will be hosted in person to encourage discussion and create space for breakout sessions to engage with the content on a deeper and more personal level. We hope you can join us. \nWhen: April 10-11\, 2025 \nLocation: River Rock Casino Resort (8811 River Road\, Richmond\, BC V6X 3P8) \nWorkshop Participants: Only 20 Participants will be accepted for this workshop. As space is limited only one representative per First Nation will be accepted. \nWhat is covered by BCALM \n\nBreakfast\, lunch and snacks will be provided April 10\, 2025 & April 11\, 2025.\nBCALM will book hotel rooms for participants and cover the costs for hotel room\, taxes\, deposit and hotel parking any other fees will be the responsibility of the participant.\nParticipants will organize their own transportation and will be eligible to apply for reimbursement for travel costs for mileage\, flights\, commercial transportation\, and meals that are not provided by BCALM during the workshop. Fill out the reimbursement form (receipts are required for reimbursements of commercial transportation\,  flights\, accommodations\, and parking). Maximum $3\,000 per First Nation.\n\nHow to register \nPlease fill out the BCALM Wills & Estates Workshop registration form as soon as possible to confirm your attendance and return to Megan Nicholas\, BCALM Administrative Assistant at admin@nalma.ca. \nDeadline for Registration: March 26\, 2025 for BCALM to book hotel rooms any registrations after this date will only be accepted upon hotel room availability. \nNote: Please notify BCALM 24 Hours in advance if you are unable to attend the workshop/training or failure to do so will result in any costs incurred to BCALM to be invoiced accordingly and will solely be the responsibility of the participant. \nFor more information or any questions or concerns contact: \nMegan Nicholas\, BCALM Administrative Assistant \nEmail: admin@nalma.ca
URL:https://bcalma.ca/events/wills-estates-workshop/
LOCATION:BC
END:VEVENT
END:VCALENDAR