BEGIN:VCALENDAR
VERSION:2.0
PRODID:-//BC Aboriginal Land Managers Association - ECPv6.15.17.1//NONSGML v1.0//EN
CALSCALE:GREGORIAN
METHOD:PUBLISH
X-ORIGINAL-URL:https://bcalma.ca
X-WR-CALDESC:Events for BC Aboriginal Land Managers Association
REFRESH-INTERVAL;VALUE=DURATION:PT1H
X-Robots-Tag:noindex
X-PUBLISHED-TTL:PT1H
BEGIN:VTIMEZONE
TZID:UTC
BEGIN:STANDARD
TZOFFSETFROM:+0000
TZOFFSETTO:+0000
TZNAME:UTC
DTSTART:20230101T000000
END:STANDARD
END:VTIMEZONE
BEGIN:VEVENT
DTSTART;TZID=UTC:20240904T100000
DTEND;TZID=UTC:20240904T110000
DTSTAMP:20260424T001626
CREATED:20240827T154946Z
LAST-MODIFIED:20240827T155333Z
UID:838-1725444000-1725447600@bcalma.ca
SUMMARY:Understanding Land Surveys
DESCRIPTION: Understanding Land Surveys  \nThis virtual training will provide an understanding of surveys on Indian Reserves and how land managers can use the accompanying products\, records\, and systems. The participant will achieve the basic concepts of location boundaries\, survey posts\, making sketches\, and surveying terminology. \nDate: September 4\, 2024\nTime: 1PM – 2PM EST (10am-11am PST) 1-hour session \nLocation: Virtual\nLanguage Delivery: English \nFor more information\, please contact Crystal Bourke: cbourke@nalma.ca \nRegister here: https://nalma.ca/events/event/understanding-land-surveys-virtual
URL:https://bcalma.ca/events/838/
LOCATION:BC
END:VEVENT
BEGIN:VEVENT
DTSTART;TZID=UTC:20240904T130000
DTEND;TZID=UTC:20240904T150000
DTSTAMP:20260424T001626
CREATED:20240722T174530Z
LAST-MODIFIED:20240722T174553Z
UID:784-1725454800-1725462000@bcalma.ca
SUMMARY:Indigenous Comprehensive Community Planning (CCP) Webinar
DESCRIPTION:This webinar is a crash course in Indigenous Comprehensive Community Planning (CCP) – a holistic\, community-driven approach to long-term planning used by hundreds of First Nations across so-called-Canada. \nIn this webinar we will talk about how a CCP fits into the “Ecosystem of Indigenous Planning” – how it differs from a strategic plan\, workplan\, Official Community Plan and other types of plans. We will talk about the four phases of a CCP process and key do’s and don’ts\, and we will share lots of resources and helpful tips. \nClick below to register: \nSeptember 4\, 1-3pm
URL:https://bcalma.ca/events/indigenous-comprehensive-community-planning-ccp-webinar/
LOCATION:BC
END:VEVENT
BEGIN:VEVENT
DTSTART;TZID=UTC:20240905T100000
DTEND;TZID=UTC:20240905T120000
DTSTAMP:20260424T001626
CREATED:20240722T174700Z
LAST-MODIFIED:20240722T175013Z
UID:786-1725530400-1725537600@bcalma.ca
SUMMARY:Indigenous Comprehensive Community Planning (CCP) Webinar
DESCRIPTION:This webinar is a crash course in Indigenous Comprehensive Community Planning (CCP) – a holistic\, community-driven approach to long-term planning used by hundreds of First Nations across so-called-Canada. \nIn this webinar we will talk about how a CCP fits into the “Ecosystem of Indigenous Planning” – how it differs from a strategic plan\, workplan\, Official Community Plan and other types of plans. We will talk about the four phases of a CCP process and key do’s and don’ts\, and we will share lots of resources and helpful tips. \nClick below to register: \nSeptember 5\, 10am-12pm
URL:https://bcalma.ca/events/indigenous-comprehensive-community-planning-ccp-webinar-2/
LOCATION:BC
END:VEVENT
BEGIN:VEVENT
DTSTART;VALUE=DATE:20240910
DTEND;VALUE=DATE:20241113
DTSTAMP:20260424T001626
CREATED:20240718T171314Z
LAST-MODIFIED:20240722T174557Z
UID:778-1725926400-1731455999@bcalma.ca
SUMMARY:Land Appraisals Toolkit Training
DESCRIPTION:This training was developed for First Nation Land Management Professionals\, including land managers\, coordinators\, officers\, and other individuals involved or interested in the management and administration of First Nation reserve lands and other land interests. This guide was designed to provide a user-friendly introduction to the topic of real property appraisals and their application in First Nation activities occurring on and off reserve lands. \nDate: September 10-12\,2024\nLocation: Winnipeg\, MB\nLanguage Delivery: English \nSponsorship: Maximum $3\,000 per First Nation. As space is limited\, only one representative per First Nation will be accepted. Registrations will be accepted on a first-come\, first-served basis. \nRegister here: https://nalma.ca/events/event/land-appraisals-toolkit-training \nFor more information\, please contact Cera Knott: cknott@nalma.ca
URL:https://bcalma.ca/events/land-appraisals-toolkit-training-2/
LOCATION:BC
END:VEVENT
BEGIN:VEVENT
DTSTART;TZID=UTC:20240911T100000
DTEND;TZID=UTC:20240911T120000
DTSTAMP:20260424T001626
CREATED:20240819T152204Z
LAST-MODIFIED:20240827T155300Z
UID:810-1726048800-1726056000@bcalma.ca
SUMMARY:Introduction to Land Use Planning (Virtual)
DESCRIPTION:This a condensed version of the content in the Land Use Planning Toolkit developed by NALMA as a practical aid for First Nations’ use in developing a land use plan for their community. Culture\, tradition\, type of land regime\, experience\, available resources\, and the wishes of the community are all factors that must be considered to help determine the type and extent of the Land Use Plan. \nTime: 10am-12pm PST\nLocation: Virtual\, ZOOM\nLanguage Delivery: English \nPlease contact Crystal Bourke for more information: cbourke@nalma.ca \nRegister here
URL:https://bcalma.ca/events/introduction-to-land-use-planning-virtual/
LOCATION:BC
END:VEVENT
BEGIN:VEVENT
DTSTART;VALUE=DATE:20240917
DTEND;VALUE=DATE:20240920
DTSTAMP:20260424T001626
CREATED:20240827T154759Z
LAST-MODIFIED:20240827T155252Z
UID:836-1726531200-1726790399@bcalma.ca
SUMMARY:Additions to Reserve/Reserve Creation (ATR/RC) Training
DESCRIPTION:The Additions to Reserve/Reserve Creation (ATR/RC) training will assist First Nations that are expanding their reserve land base\, providing a detailed overview of acquiring land and developing an ATR/RC proposal. This training will provide participants with the basic concepts of ATRs\, considerations before undertaking an ATR/RC\, and lead you through the four phases of the ATR process. \nAjouts aux réserves/création de réserves (AR/CR)\nLa formation sur les ajouts aux réserves/créations de réserves (AR/CR) est destinée aux Premières Nations qui souhaitent agrandir leur réserve\, en leur donnant un aperçu détaillé du processus d’acquisition de terres et de l’élaboration d’une proposition d’AR/CR. Cette formation présentera aux participants les concepts de base d’un AR/CR\, ce qu’il faut prendre en compte avant d’entamer une proposition\, et les guidera à travers les quatre phases du processus. \nDate: September 17-19\, 2024\nLocation: Ottawa\, ON\nLanguage Delivery: Bilingual/French Delivery \nSponsorship: Maximum $3\,000 per First Nation. As space is limited\, only one representative per First Nation will be accepted. Registrations will be accepted on a first-come\, first-served basis. \nRegister here: https://nalma.ca/events/event/additions-to-reserve-reserve-creation-atr-rc-toolkit-training \nFor more information\, please contact Juliana Thompson: jthompson@nalma.ca
URL:https://bcalma.ca/events/additions-to-reserve-reserve-creation-atr-rc-training-2/
LOCATION:BC
END:VEVENT
BEGIN:VEVENT
DTSTART;TZID=UTC:20240924T100000
DTEND;TZID=UTC:20240924T120000
DTSTAMP:20260424T001626
CREATED:20240920T153217Z
LAST-MODIFIED:20250328T155657Z
UID:872-1727172000-1727179200@bcalma.ca
SUMMARY:Preserving Well-Being in Reconciliation Live Workshop
DESCRIPTION:While preparing for Truth & Reconciliation Day\, individual and community well-being can be preserved through traditional Indigenous teachings of interconnectivity and a holistic application of cumulative frameworks. \nJoin us on Tuesday\, Sept. 24 @ 10am PST REGISTER HERE \nClick here for more info
URL:https://bcalma.ca/events/preserving-well-being-in-reconciliation-live-workshop/
LOCATION:BC
END:VEVENT
END:VCALENDAR