BEGIN:VCALENDAR
VERSION:2.0
PRODID:-//BC Aboriginal Land Managers Association - ECPv6.15.17.1//NONSGML v1.0//EN
CALSCALE:GREGORIAN
METHOD:PUBLISH
X-WR-CALNAME:BC Aboriginal Land Managers Association
X-ORIGINAL-URL:https://bcalma.ca
X-WR-CALDESC:Events for BC Aboriginal Land Managers Association
REFRESH-INTERVAL;VALUE=DURATION:PT1H
X-Robots-Tag:noindex
X-PUBLISHED-TTL:PT1H
BEGIN:VTIMEZONE
TZID:UTC
BEGIN:STANDARD
TZOFFSETFROM:+0000
TZOFFSETTO:+0000
TZNAME:UTC
DTSTART:20230101T000000
END:STANDARD
END:VTIMEZONE
BEGIN:VEVENT
DTSTART;TZID=UTC:20240828T170000
DTEND;TZID=UTC:20240828T190000
DTSTAMP:20260424T012032
CREATED:20240802T162521Z
LAST-MODIFIED:20240827T155338Z
UID:808-1724864400-1724871600@bcalma.ca
SUMMARY:Introduction to Additions to Reserve for Chief & Council (Virtual)
DESCRIPTION:This training provides Chiefs and Councilors a look into the multi-faceted\, multi-year process involved in adding lands to reserve.  Topics include: \n\nThings to consider when purchasing lands for ATR\nThe need for building an ATR team and project management\nReasons for the often lengthy time it takes to add lands\, and\nThe numerous issues to be addressed before a submission can be completed.\n\nOther government discussions\, environmental assessments\, surveys\, third party interests and more will be covered to assist with a greater understanding of the ATR process. \nDate: August 28\, 2024 \nTime: 1pm – 3pm EST (10am-12pm PST) \nLocation: Virtual \nLanguage Delivery: English \nFor more information\, please contact Crystal Bourke: cbourke@nalma.ca \nRegister here: https://nalma.ca/events/event/introduction-to-additions-to-reserve-for-chief-council
URL:https://bcalma.ca/events/introduction-to-additions-to-reserve-for-chief-council-virtual/
LOCATION:BC
END:VEVENT
END:VCALENDAR