BEGIN:VCALENDAR
VERSION:2.0
PRODID:-//BC Aboriginal Land Managers Association - ECPv6.15.17.1//NONSGML v1.0//EN
CALSCALE:GREGORIAN
METHOD:PUBLISH
X-WR-CALNAME:BC Aboriginal Land Managers Association
X-ORIGINAL-URL:https://bcalma.ca
X-WR-CALDESC:Events for BC Aboriginal Land Managers Association
REFRESH-INTERVAL;VALUE=DURATION:PT1H
X-Robots-Tag:noindex
X-PUBLISHED-TTL:PT1H
BEGIN:VTIMEZONE
TZID:UTC
BEGIN:STANDARD
TZOFFSETFROM:+0000
TZOFFSETTO:+0000
TZNAME:UTC
DTSTART:20230101T000000
END:STANDARD
END:VTIMEZONE
BEGIN:VEVENT
DTSTART;VALUE=DATE:20240408
DTEND;VALUE=DATE:20240410
DTSTAMP:20260424T061558
CREATED:20240313T161554Z
LAST-MODIFIED:20240313T161559Z
UID:629-1712534400-1712707199@bcalma.ca
SUMMARY:Indigenous Data Governance and Management Training Workshop
DESCRIPTION:BCALM will be hosting an Indigenous Data Governance and Management training workshop April 8 and 9\, 2024 at the River Rock Casino Resort in Richmond\, BC (8811 River Road\, Richmond\, BC). Travel day to the workshop will be April 7\, 2024\, and travel home day will be April 10\, 2024. \nIndigenous Data Governance and Management Workshop \nJoin us for the Indigenous Data Governance and Management Workshop\, designed to empower First Nations in British Columbia to enhance control\, access\, and possession over community data. With a focus on spatial and Indigenous Knowledge data\, this workshop equips participants with skills in Indigenous Data Sovereignty and Governance. Through hands-on learning\, attendees will gain practical tools to bolster data-driven decision-making in their communities. Our goal is to support First Nations by ensuring they are equipped with the knowledge and steps to effectively implement Indigenous Data Sovereignty. Don’t miss this opportunity to enhance data management within your First Nation. \nWhen: April 8 and 9\, 2024\nLocation: River Rock Casino Resort in Richmond\, BC \nWorkshop Participants: Only 40 participants will be accepted for this workshop and is on a first come\, first served basis. This workshop is open staff who work with knowledge holders or who those who engage with or manage spatial and/or Indigenous Knowledge for your Nation. \nWhat is covered by BCALM \nBreakfast\, lunch and snacks will be provided April 8 and 9\, 2024. \nParticipants will organize their own transportation and may be eligible to apply for reimbursement for travel costs for mileage\, flights\, commercial transportation\, and meals that are not provided by BCALM during the workshop. The Travel Form is blow (receipts are required for reimbursements). Maximum $3\,000 per First Nation. As space is limited\, only one representative per First Nation will be accepted for reimbursement.  \nHow to Register \nPlease fill out the Workshop Training Registration form (link below) as soon as possible to confirm your attendance and return to Megan Nicholas\, BCALM Administrative Assistant at admin@nalma.ca. \nDeadline for Registration: March 29\, 2024. \nNote: Please notify BCALM 24 Hours in advance if you are unable to attend the workshop/training or failure to do so will result in any costs incurred to BCALM to be invoiced accordingly and will solely be the responsibility of the participant. \nFor more information or any questions or concerns contact: \nMegan Nicholas\, BCALM Administrative Assistant \nEmail: admin@nalma.ca\nCell: (250)307-6346 \nClick Here for Registration Form\nClick Here for Travel Form
URL:https://bcalma.ca/events/indigenous-data-governance-and-management-training-orkshop/
LOCATION:BC
END:VEVENT
END:VCALENDAR