BEGIN:VCALENDAR
VERSION:2.0
PRODID:-//BC Aboriginal Land Managers Association - ECPv6.15.17.1//NONSGML v1.0//EN
CALSCALE:GREGORIAN
METHOD:PUBLISH
X-WR-CALNAME:BC Aboriginal Land Managers Association
X-ORIGINAL-URL:https://bcalma.ca
X-WR-CALDESC:Events for BC Aboriginal Land Managers Association
REFRESH-INTERVAL;VALUE=DURATION:PT1H
X-Robots-Tag:noindex
X-PUBLISHED-TTL:PT1H
BEGIN:VTIMEZONE
TZID:UTC
BEGIN:STANDARD
TZOFFSETFROM:+0000
TZOFFSETTO:+0000
TZNAME:UTC
DTSTART:20230101T000000
END:STANDARD
END:VTIMEZONE
BEGIN:VEVENT
DTSTART;VALUE=DATE:20240305
DTEND;VALUE=DATE:20240308
DTSTAMP:20260424T072354
CREATED:20231209T001125Z
LAST-MODIFIED:20240120T000855Z
UID:518-1709596800-1709855999@bcalma.ca
SUMMARY:Land Use Planning
DESCRIPTION:Land Use Planning \nThe Land Use Planning Toolkit has been developed by NALMA as a practical aid for First Nations’ use in developing a land use plan for their community. Culture\, tradition\, type of land regime\, experience\, available resources\, and the wishes of the community are all factors that must be considered to help determine the type and extent of the Land Use Plan. \nDate: March 5 – 7\, 2024 \nLocation: Calgary\, AB \nREGISTER HERE \nSponsorship: Maximum $3\,000 per First Nation. This training session can accommodate 20 Land Managers. As space is limited\, only one representative per First Nation will be accepted. Registrations will be accepted on a first-come\, first-served basis. \nFor more information contact Becky Wolfe\, LUP Program Administrator\, at bwolfe@nalma.ca
URL:https://bcalma.ca/events/land-use-planning-2/
LOCATION:BC
END:VEVENT
BEGIN:VEVENT
DTSTART;VALUE=DATE:20240312
DTEND;VALUE=DATE:20240315
DTSTAMP:20260424T072354
CREATED:20231208T235714Z
LAST-MODIFIED:20240118T205715Z
UID:501-1710201600-1710460799@bcalma.ca
SUMMARY:Additions to Reserves (ATR)
DESCRIPTION:Additions to Reserves (ATR) Toolkit Training\nThe National Aboriginal Lands Managers Association (NALMA) is pleased to offer Additions to Reserves (ATR) Toolkit Training. This training is a great opportunity for Land Managers or ATR Project Leaders to expand their knowledge of the ATR process\, understand the federal government’s 2016 ATR policy requirements (including recent statutory developments)\, and the procedures necessary to develop a successful ATR proposal. \nDate: March 12 – 14\, 2024 (2.5 days)\nLocation: Ottawa\, ON\nRegistration Deadline: February 20\, 2024 \nSponsorship: Maximum $3\,000 per First Nation. This training session can accommodate 20 Land Managers. As space is limited\, only one representative per First Nation will be accepted. Registrations will be accepted on a first-come\, first-served basis. \nRegister Here
URL:https://bcalma.ca/events/additions-to-reserves-atr-2/
LOCATION:BC
END:VEVENT
BEGIN:VEVENT
DTSTART;VALUE=DATE:20240319
DTEND;VALUE=DATE:20240322
DTSTAMP:20260424T072354
CREATED:20231209T000608Z
LAST-MODIFIED:20240214T204201Z
UID:511-1710806400-1711065599@bcalma.ca
SUMMARY:Geographical Information System (GIS) Toolkit Training
DESCRIPTION:The National Aboriginal Lands Managers Association (NALMA) is pleased to offer GIS Toolkit Training. Embark on a transformative journey with our “Uncover the World: Introduction to GIS” workshop\, tailored to address the unique needs of First Nation communities and Aboriginal land managers. Designed for beginners and those with basic knowledge\, the session delves into fundamental GIS concepts\, offering hands-on activities in mapping\, data manipulation\, and spatial analysis. This specialized session goes beyond the basics of GIS\, delving into how geospatial technology plays a crucial role in empowering these communities to manage and protect their lands effectively. Learn how GIS facilitates sustainable resource management\, land-use planning\, and cultural preservation within Indigenous contexts.  \nDate: March 19-21\, 2024 (2.5 days)  \nLocation: Toronto\, ON \nRegistration Deadline: March 1\, 2023 \nSponsorship: Maximum $3\,000 per First Nation. This training session can accommodate 20 Land Managers. As space is limited\, only one representative per First Nation will be accepted. Registrations will be accepted on a first-come\, first-served basis. \n\nRegister Here: https://nalma.ca/events/event/gis-toolkit-training-march-19th-21st-2023-toronto-on \nFor more information contact Juliana Thompson: jthompson@nalma.ca
URL:https://bcalma.ca/events/gis-toolkit-training/
LOCATION:BC
END:VEVENT
BEGIN:VEVENT
DTSTART;VALUE=DATE:20240326
DTEND;VALUE=DATE:20240329
DTSTAMP:20260424T072354
CREATED:20231209T001322Z
LAST-MODIFIED:20240214T204309Z
UID:522-1711411200-1711670399@bcalma.ca
SUMMARY:Climate Change Toolkit Training
DESCRIPTION:The National Aboriginal Lands Managers Association (NALMA) is pleased to offer Climate Change Toolkit Training. This training will provide Indigenous land managers and laypersons with understanding of climate\, climate change\, and how to prepare their community for climate change impacts. Further\, it will discuss how climate change impacts Indigenous communities using examples from across Canada. \nDate: March 26-28\, 2024 (2.5 days) \nLocation: Saskatoon\, SK \nRegistration Deadline: March 7\, 2024 \nSponsorship: Maximum $3\,000 per First Nation. This training session can accommodate 20 Land Managers. \nAs space is limited\, only one representative per First Nation will be accepted. Registrations will be accepted on a first-come\, first-served basis. \n\nRegister here: https://nalma.ca/events/event/climate-change-march-26-2024 \nFor more information contact Juliana Thompson: jthompson@nalma.ca
URL:https://bcalma.ca/events/climate-change/
LOCATION:BC
END:VEVENT
BEGIN:VEVENT
DTSTART;VALUE=DATE:20240328
DTEND;VALUE=DATE:20240329
DTSTAMP:20260424T072354
CREATED:20240122T231900Z
LAST-MODIFIED:20240122T233431Z
UID:588-1711584000-1711670399@bcalma.ca
SUMMARY:Emergency Management Forum
DESCRIPTION:The Emergency Management Forum is a deliverable under the Tripartite MOU between the FNLC\, Canada and BC. The purpose of the forum is to create a venue for First Nations Chiefs\, First Nations emergency management personnel and experts\, government officials and other partners to discuss how to improve First Nations jurisdiction and governance in all aspects of emergency management. \nThis year we have been witness to the worst wildfire season in BC history\, and many First Nations remain actively engaged in response and recovery. \nThe new date for the forum is on March 28\, 2024 and will be attended virtually. We apologize for any inconvenience this postponement may cause. \nIf you have any questions regarding the BC First Nations Emergency Management Forum\, please contact Jaime Sanchez\, Special Advisor to the Regional Chief\, BCAFN\, via email at: jaime.sanchez@bcafn.ca.
URL:https://bcalma.ca/events/emergency-management-forum/
LOCATION:BC
END:VEVENT
END:VCALENDAR