BEGIN:VCALENDAR
VERSION:2.0
PRODID:-//BC Aboriginal Land Managers Association - ECPv6.15.17.1//NONSGML v1.0//EN
CALSCALE:GREGORIAN
METHOD:PUBLISH
X-WR-CALNAME:BC Aboriginal Land Managers Association
X-ORIGINAL-URL:https://bcalma.ca
X-WR-CALDESC:Events for BC Aboriginal Land Managers Association
REFRESH-INTERVAL;VALUE=DURATION:PT1H
X-Robots-Tag:noindex
X-PUBLISHED-TTL:PT1H
BEGIN:VTIMEZONE
TZID:UTC
BEGIN:STANDARD
TZOFFSETFROM:+0000
TZOFFSETTO:+0000
TZNAME:UTC
DTSTART:20220101T000000
END:STANDARD
END:VTIMEZONE
BEGIN:VEVENT
DTSTART;VALUE=DATE:20240123
DTEND;VALUE=DATE:20240126
DTSTAMP:20260423T232431
CREATED:20240118T205545Z
LAST-MODIFIED:20240118T205625Z
UID:573-1705968000-1706227199@bcalma.ca
SUMMARY:Additions to Reserve Toolkit Training
DESCRIPTION:British Columbia Participants ONLY – Additions to Reserve Toolkit Training\nThe National Aboriginal Lands Managers Association (NALMA) is pleased to offer Additions to Reserves (ATR) Toolkit Training. This training is a great opportunity for Land Managers or ATR Project Leaders to expand their knowledge of the ATR process\, understand the federal government’s 2016 ATR policy requirements (including recent statutory developments)\, and the procedures necessary to develop a successful ATR proposal. \nDate: January 23-25\, 2024 (2.5 days)\nLocation: Vancouver\, BC\nRegistration Deadline: January 2\, 2024 \nSponsorship: Maximum $3\,000 per First Nation. This training session can accommodate 20 Land Managers. As space is limited\, only one representative per First Nation will be accepted. Registrations will be accepted on a first-come\, first-served basis. \nFor more information\, contact Stephanie Tripp at stephtripp@nalma.ca
URL:https://bcalma.ca/events/573/
END:VEVENT
BEGIN:VEVENT
DTSTART;VALUE=DATE:20240123
DTEND;VALUE=DATE:20240126
DTSTAMP:20260423T232431
CREATED:20231218T220523Z
LAST-MODIFIED:20231218T220912Z
UID:532-1705968000-1706227199@bcalma.ca
SUMMARY:Land Use Planning Toolkit Training
DESCRIPTION:NALMA’s Land Use Planning Unit would like to invite you to a Land Use Planning Toolkit Training on January 23-25\, 2024 in Vancouver\, BC. Below are the preliminary plans for the training: \nDate: January 23-25\, 2024 (2.5 days) \nLocation: The Westin Bayshore Vancouver: 1601 Bayshore Drive\, Vancouver\, BC V6G 2V4 \nAttendees: This training is specifically targeted at Land Managers interested in undertaking LUP projects\, with support through NALMA’s LUP Initiative. We have space available for 1 representative per community. If you would like to request additional attendees\, please contact us to discuss. \nObjectives:\nTraining: Condensed training on NALMA’s LUP Toolkit and the planning process\nKnowledge Sharing: Opportunity for land managers to share information on individual LUP projects\, and discuss common challenges and opportunities\nProgram Updates: Overview of current LUP programs\, resources\, and support available to Land Managers \nDraft Agenda: To follow \nCosts: NALMA will reimburse travel costs for Land Manager attendees\, up to $3\,000 CAD per person (based on eligible expenses). \nA registration form is attached below for this event. Please send in your completed registration form to bwolfe@nalma.ca ASAP to let us know if you are able to attend. We will forward the hotel link once we receive the completed registration form. \nREGISTRATION FORM
URL:https://bcalma.ca/events/land-use-planning-toolkit-training/
END:VEVENT
BEGIN:VEVENT
DTSTART;VALUE=DATE:20240117
DTEND;VALUE=DATE:20240118
DTSTAMP:20260423T232431
CREATED:20231209T000854Z
LAST-MODIFIED:20231209T000907Z
UID:513-1705449600-1705535999@bcalma.ca
SUMMARY:Land Use Planning (Virtual)
DESCRIPTION:Please check www.nalma.ca to confirm dates\, registration\, and travel sponsorship details as training schedule may change. All training is subject to NALMA Education Policy.  \nLocation: Virtual (online)
URL:https://bcalma.ca/events/land-use-planning-virtual/
END:VEVENT
BEGIN:VEVENT
DTSTART;VALUE=DATE:20240116
DTEND;VALUE=DATE:20240119
DTSTAMP:20260423T232431
CREATED:20231209T000438Z
LAST-MODIFIED:20231209T000438Z
UID:509-1705363200-1705622399@bcalma.ca
SUMMARY:Contaminated Sites Management
DESCRIPTION:Please check www.nalma.ca to confirm dates\, registration\, and travel sponsorship details as training schedule may change. All training is subject to NALMA Education Policy. \nLocation: Toronto\, ON
URL:https://bcalma.ca/events/contaminated-sites-management/
END:VEVENT
BEGIN:VEVENT
DTSTART;VALUE=DATE:20240109
DTEND;VALUE=DATE:20240112
DTSTAMP:20260423T232431
CREATED:20231209T000239Z
LAST-MODIFIED:20231209T000239Z
UID:507-1704758400-1705017599@bcalma.ca
SUMMARY:Natural Resources Management
DESCRIPTION:Please check www.nalma.ca to confirm dates\, registration\, and travel sponsorship details as training schedule may change. All training is subject to NALMA Education Policy. \nLocation: Winnipeg\, MB
URL:https://bcalma.ca/events/natural-resources-management/
END:VEVENT
BEGIN:VEVENT
DTSTART;VALUE=DATE:20231223
DTEND;VALUE=DATE:20231226
DTSTAMP:20260423T232431
CREATED:20231208T232512Z
LAST-MODIFIED:20231208T232916Z
UID:494-1703289600-1703548799@bcalma.ca
SUMMARY:Additions to Reserve (ATR) Training
DESCRIPTION:The National Aboriginal Lands Managers Association (NALMA) is pleased to offer Additions to Reserve (ATR) Toolkit Training. This training will assist First Nations that are expanding their reserve land base\, providing a detailed overview of acquiring land and developing an ATR/RC proposal. This training will provide participants with the basic concepts of ATRs\, considerations before undertaking an ATR/RC\, and lead you through the four phases of the ATR process. \nLocation: Vancouver\, BC\nRegistration Deadline: Friday December 15th\, 2023\nSponsorship: Maximum $3\,000 per First Nation. This training session can accommodate 20 land managers. As space is limited\, only one representative per First Nation will be accepted. Registrations will be accepted on a first-come\, first-served basis. \nRegistration form: DOWNLOAD HERE
URL:https://bcalma.ca/events/additions-to-reserve-atr-training/
END:VEVENT
BEGIN:VEVENT
DTSTART;VALUE=DATE:20231107
DTEND;VALUE=DATE:20231110
DTSTAMP:20260423T232431
CREATED:20231019T203120Z
LAST-MODIFIED:20231019T203455Z
UID:418-1699315200-1699574399@bcalma.ca
SUMMARY:Land Appraisals Toolkit Training
DESCRIPTION:The National Aboriginal Lands Managers Association (NALMA) is pleased to offer Land Appraisals Toolkit Training November 7-9 in Vancouver. Registration deadline is October 17\, 2023. To register\, click here. 
URL:https://bcalma.ca/events/land-appraisals-toolkit-training/
END:VEVENT
BEGIN:VEVENT
DTSTART;TZID=UTC:20231025T160000
DTEND;TZID=UTC:20231025T160000
DTSTAMP:20260423T232431
CREATED:20231019T202435Z
LAST-MODIFIED:20231019T202833Z
UID:414-1698249600-1698249600@bcalma.ca
SUMMARY:Introduction to Surveys
DESCRIPTION:The National Aboriginal Lands Managers Association (NALMA) is pleased to offer Introduction to Surveys training on October 25\, 2023 from 12pm to 1:30 PM EST. Registration deadline is October 18\, 2023. This event is virtual and bilingual. To register\, click here. 
URL:https://bcalma.ca/events/introduction-to-surveys/
END:VEVENT
END:VCALENDAR